BEGIN:VCALENDAR
VERSION:2.0
PRODID:-//OLY ARTS - ECPv6.15.20//NONSGML v1.0//EN
CALSCALE:GREGORIAN
METHOD:PUBLISH
X-ORIGINAL-URL:https://olyarts.org
X-WR-CALDESC:Events for OLY ARTS
REFRESH-INTERVAL;VALUE=DURATION:PT1H
X-Robots-Tag:noindex
X-PUBLISHED-TTL:PT1H
BEGIN:VTIMEZONE
TZID:America/Los_Angeles
BEGIN:DAYLIGHT
TZOFFSETFROM:-0800
TZOFFSETTO:-0700
TZNAME:PDT
DTSTART:20250309T100000
END:DAYLIGHT
BEGIN:STANDARD
TZOFFSETFROM:-0700
TZOFFSETTO:-0800
TZNAME:PST
DTSTART:20251102T090000
END:STANDARD
BEGIN:DAYLIGHT
TZOFFSETFROM:-0800
TZOFFSETTO:-0700
TZNAME:PDT
DTSTART:20260308T100000
END:DAYLIGHT
BEGIN:STANDARD
TZOFFSETFROM:-0700
TZOFFSETTO:-0800
TZNAME:PST
DTSTART:20261101T090000
END:STANDARD
BEGIN:DAYLIGHT
TZOFFSETFROM:-0800
TZOFFSETTO:-0700
TZNAME:PDT
DTSTART:20270314T100000
END:DAYLIGHT
BEGIN:STANDARD
TZOFFSETFROM:-0700
TZOFFSETTO:-0800
TZNAME:PST
DTSTART:20271107T090000
END:STANDARD
END:VTIMEZONE
BEGIN:VEVENT
DTSTART;TZID=America/Los_Angeles:20260423T180000
DTEND;TZID=America/Los_Angeles:20260423T200000
DTSTAMP:20260421T033126
CREATED:20260418T151138Z
LAST-MODIFIED:20260418T151143Z
UID:10005564-1776967200-1776974400@olyarts.org
SUMMARY:Poetry in the Harbor
DESCRIPTION:Join us for an evening of spoken word at the Tacoma Community College Gig Harbor Campus. Hosted by TCC Written Communications Professor Monica Monk\, Poetry in the Harbor features readings by local poets Peter Ludwin\, Michael Spence\, Katharine Threat\, and Chris Vega. Admission is free\, and everyone is welcome to attend! Sign up at tacomacc.edu/continuingeducation.
URL:https://olyarts.org/event/poetry-in-the-harbor/
LOCATION:Tacoma Community College Gig Harbor Campus\, 3993 Hunt Street Northwest\, Gig Harbor\, 98335
CATEGORIES:Books and Words
ATTACH;FMTTYPE=image/jpeg:https://olyarts.org/wp-content/uploads/2026/04/PITH-updated-monitor-ad-.jpeg
ORGANIZER;CN="Tacoma Community College":MAILTO:rpayne@tacomacc.edu
END:VEVENT
END:VCALENDAR