BEGIN:VCALENDAR
VERSION:2.0
PRODID:-//OLY ARTS - ECPv6.15.20//NONSGML v1.0//EN
CALSCALE:GREGORIAN
METHOD:PUBLISH
X-ORIGINAL-URL:https://olyarts.org
X-WR-CALDESC:Events for OLY ARTS
REFRESH-INTERVAL;VALUE=DURATION:PT1H
X-Robots-Tag:noindex
X-PUBLISHED-TTL:PT1H
BEGIN:VTIMEZONE
TZID:America/Los_Angeles
BEGIN:DAYLIGHT
TZOFFSETFROM:-0800
TZOFFSETTO:-0700
TZNAME:PDT
DTSTART:20250309T100000
END:DAYLIGHT
BEGIN:STANDARD
TZOFFSETFROM:-0700
TZOFFSETTO:-0800
TZNAME:PST
DTSTART:20251102T090000
END:STANDARD
BEGIN:DAYLIGHT
TZOFFSETFROM:-0800
TZOFFSETTO:-0700
TZNAME:PDT
DTSTART:20260308T100000
END:DAYLIGHT
BEGIN:STANDARD
TZOFFSETFROM:-0700
TZOFFSETTO:-0800
TZNAME:PST
DTSTART:20261101T090000
END:STANDARD
BEGIN:DAYLIGHT
TZOFFSETFROM:-0800
TZOFFSETTO:-0700
TZNAME:PDT
DTSTART:20270314T100000
END:DAYLIGHT
BEGIN:STANDARD
TZOFFSETFROM:-0700
TZOFFSETTO:-0800
TZNAME:PST
DTSTART:20271107T090000
END:STANDARD
END:VTIMEZONE
BEGIN:VEVENT
DTSTART;TZID=America/Los_Angeles:20260515T193000
DTEND;TZID=America/Los_Angeles:20260515T213000
DTSTAMP:20260422T052433
CREATED:20251216T161630Z
LAST-MODIFIED:20260311T171923Z
UID:10005071-1778873400-1778880600@olyarts.org
SUMMARY:The Wailin’ Jennys
DESCRIPTION:The Wailin’ Jennys are Nicky Mehta\, Ruth Moody and Heather Masse — three distinct voices that together make an achingly perfect vocal sound. With their varying backgrounds\, each of the Jennys is unique in their individual expression and together they have grown into one of today’s most beloved acts on the international folk-roots scene. The Jennys forge a unified folk-pop sound — all delivered with the irresistible vocal power of three. Their live performances never fail to impress and entertain with show-stopping harmonies\, impressive instrumental prowess\, breathtaking songs and\, of course\, witty stage banter.
URL:https://olyarts.org/event/the-wailin-jennys/
LOCATION:The Washington Center for the Performing Arts\, 512 Washington St SE\, Olympia
CATEGORIES:Comedy,Dance,Film,Music
ATTACH;FMTTYPE=image/jpeg:https://olyarts.org/wp-content/uploads/2025/12/The-Wailin-Jennys.jpg
ORGANIZER;CN="Washington Center for the Performing Arts":MAILTO:boxoffice@washingtoncenter.org
END:VEVENT
END:VCALENDAR