BEGIN:VCALENDAR
VERSION:2.0
PRODID:-//OLY ARTS - ECPv6.15.20//NONSGML v1.0//EN
CALSCALE:GREGORIAN
METHOD:PUBLISH
X-ORIGINAL-URL:https://olyarts.org
X-WR-CALDESC:Events for OLY ARTS
REFRESH-INTERVAL;VALUE=DURATION:PT1H
X-Robots-Tag:noindex
X-PUBLISHED-TTL:PT1H
BEGIN:VTIMEZONE
TZID:America/Los_Angeles
BEGIN:DAYLIGHT
TZOFFSETFROM:-0800
TZOFFSETTO:-0700
TZNAME:PDT
DTSTART:20250309T100000
END:DAYLIGHT
BEGIN:STANDARD
TZOFFSETFROM:-0700
TZOFFSETTO:-0800
TZNAME:PST
DTSTART:20251102T090000
END:STANDARD
BEGIN:DAYLIGHT
TZOFFSETFROM:-0800
TZOFFSETTO:-0700
TZNAME:PDT
DTSTART:20260308T100000
END:DAYLIGHT
BEGIN:STANDARD
TZOFFSETFROM:-0700
TZOFFSETTO:-0800
TZNAME:PST
DTSTART:20261101T090000
END:STANDARD
BEGIN:DAYLIGHT
TZOFFSETFROM:-0800
TZOFFSETTO:-0700
TZNAME:PDT
DTSTART:20270314T100000
END:DAYLIGHT
BEGIN:STANDARD
TZOFFSETFROM:-0700
TZOFFSETTO:-0800
TZNAME:PST
DTSTART:20271107T090000
END:STANDARD
END:VTIMEZONE
BEGIN:VEVENT
DTSTART;TZID=America/Los_Angeles:20260513T193000
DTEND;TZID=America/Los_Angeles:20260513T213000
DTSTAMP:20260422T035237
CREATED:20260420T153923Z
LAST-MODIFIED:20260420T153925Z
UID:10005565-1778700600-1778707800@olyarts.org
SUMMARY:A Taste of Ireland - The Irish Music & Dance Sensation
DESCRIPTION:Laugh\, cry and jig into the night with a production that is Celtic\, for this generation. \nDirect from Off-Broadway and starring former World Irish dance champions\, including performers from Lord of the Dance and Riverdance\, ‘A Taste of Ireland’ transports the audience through the story of Ireland’s tumultuous history delivered with a pint of Irish wit. Watch world-class performers blend melodic folk mash-ups\, live jaw-dropping acapella tap battles and heartwarming story telling. \n​ \nFeaturing revamped classics of Danny Boy\, Tell Me Ma\, Wild Rover\, and many more well known songs\, the show’s reimagined contemporary score blossoms alongside the brash Irish charm of the live dance cast. ‘A Taste of Ireland’ merges cultural traditions\, modern flair\, and craic galore\, to deliver a performance that has been leaving audiences across the globe jigging on their feet for the last decade. \n​ \nWith over one hundred and fifty 5-star Facebook reviews\, ‘A Taste of Ireland’ is exactly what it promises: a taste of everything you love about Ireland with a generous helping of more! ’A Taste of Ireland’ is a show with 100% live singing and dancing that bridges the gap between storytelling\, modern Irish dance\, tap and contemporary dance to tell a historic story\, live on stage.
URL:https://olyarts.org/event/a-taste-of-ireland-the-irish-music-dance-sensation/
CATEGORIES:Dance,Music,Theater
ATTACH;FMTTYPE=image/jpeg:https://olyarts.org/wp-content/uploads/2026/04/Olympia-Images_400x400px-with-venue-details.jpg
ORGANIZER;CN="Washington Center for the Performing Arts":MAILTO:boxoffice@washingtoncenter.org
END:VEVENT
BEGIN:VEVENT
DTSTART;TZID=America/Los_Angeles:20260517T160000
DTEND;TZID=America/Los_Angeles:20260517T180000
DTSTAMP:20260422T035237
CREATED:20260313T215157Z
LAST-MODIFIED:20260313T215200Z
UID:10005140-1779033600-1779040800@olyarts.org
SUMMARY:SOGO Spring Concert
DESCRIPTION:SOGO’s spring concert marks the powerful finale of its 26th season and the culmination of Paths to Dignity—a year-long project to build meaningful connections between homeless advocacy groups and cultural organizations. SOGO alumnus Dillon Welch\, now performing with the Louisville Orchestra\, returns to play Shelter for My Child\, the poignant third movement of Lucas Richman’s Violin Concerto: Paths to Dignity. Also taking the stage is SOGO alumnus and jazz vocalist Elliot Weeks\, sharing his soulful rendition of What a Wonderful World. The Conservatory Orchestra will close the season with the vibrant Polovtsian Dances by Alexander Borodin.\n\nThe Philharmonic and Academy Orchestras\, along with the Brass Choir\, will complete the program with expressive performances of classical gems and adventurous contemporary works.
URL:https://olyarts.org/event/sogo-spring-concert/
LOCATION:512 Washinton St SE Olympia WA 98501\, 512 Washington St SE\, Olympia\, 98501
CATEGORIES:Music
ATTACH;FMTTYPE=image/png:https://olyarts.org/wp-content/uploads/2026/03/2026-Spring-Concert-Image.png
ORGANIZER;CN="Student Orchestras of Greater Olympia":MAILTO:studentorchestras@gmail.com
END:VEVENT
END:VCALENDAR