BEGIN:VCALENDAR
VERSION:2.0
PRODID:-//OLY ARTS - ECPv6.15.20//NONSGML v1.0//EN
CALSCALE:GREGORIAN
METHOD:PUBLISH
X-ORIGINAL-URL:https://olyarts.org
X-WR-CALDESC:Events for OLY ARTS
REFRESH-INTERVAL;VALUE=DURATION:PT1H
X-Robots-Tag:noindex
X-PUBLISHED-TTL:PT1H
BEGIN:VTIMEZONE
TZID:America/Los_Angeles
BEGIN:DAYLIGHT
TZOFFSETFROM:-0800
TZOFFSETTO:-0700
TZNAME:PDT
DTSTART:20250309T100000
END:DAYLIGHT
BEGIN:STANDARD
TZOFFSETFROM:-0700
TZOFFSETTO:-0800
TZNAME:PST
DTSTART:20251102T090000
END:STANDARD
BEGIN:DAYLIGHT
TZOFFSETFROM:-0800
TZOFFSETTO:-0700
TZNAME:PDT
DTSTART:20260308T100000
END:DAYLIGHT
BEGIN:STANDARD
TZOFFSETFROM:-0700
TZOFFSETTO:-0800
TZNAME:PST
DTSTART:20261101T090000
END:STANDARD
BEGIN:DAYLIGHT
TZOFFSETFROM:-0800
TZOFFSETTO:-0700
TZNAME:PDT
DTSTART:20270314T100000
END:DAYLIGHT
BEGIN:STANDARD
TZOFFSETFROM:-0700
TZOFFSETTO:-0800
TZNAME:PST
DTSTART:20271107T090000
END:STANDARD
END:VTIMEZONE
BEGIN:VEVENT
DTSTART;TZID=America/Los_Angeles:20260422T190000
DTEND;TZID=America/Los_Angeles:20260422T210000
DTSTAMP:20260422T034005
CREATED:20260414T162740Z
LAST-MODIFIED:20260414T162743Z
UID:10005196-1776884400-1776891600@olyarts.org
SUMMARY:Timberline HS 21st Annual Throwback Concert
DESCRIPTION:This concert features jazz standards from the 1930s\, 40s and 50s from Ella Fitzgerald to Frank Sinatra. $10/adults and $5/students. Monday and Tuesday\, April 20-21 @7pm at the Timberline Theatre- 6120 Mullen Rd\, SE\, Lacey.
URL:https://olyarts.org/event/timberline-hs-21st-annual-throwback-concert/2026-04-22/
LOCATION:Timberline High School Theatre\, 6120 Mullen Rd SE\, Lacey\, WA\, 98503\, United States
CATEGORIES:Music
ATTACH;FMTTYPE=image/png:https://olyarts.org/wp-content/uploads/2026/04/Throwback-POSTER.png
ORGANIZER;CN="Terry Shaw":MAILTO:strauss77@msn.com
END:VEVENT
BEGIN:VEVENT
DTSTART;TZID=America/Los_Angeles:20260423T190000
DTEND;TZID=America/Los_Angeles:20260423T210000
DTSTAMP:20260422T034005
CREATED:20260414T162740Z
LAST-MODIFIED:20260414T162743Z
UID:10005197-1776970800-1776978000@olyarts.org
SUMMARY:Timberline HS 21st Annual Throwback Concert
DESCRIPTION:This concert features jazz standards from the 1930s\, 40s and 50s from Ella Fitzgerald to Frank Sinatra. $10/adults and $5/students. Monday and Tuesday\, April 20-21 @7pm at the Timberline Theatre- 6120 Mullen Rd\, SE\, Lacey.
URL:https://olyarts.org/event/timberline-hs-21st-annual-throwback-concert/2026-04-23/
LOCATION:Timberline High School Theatre\, 6120 Mullen Rd SE\, Lacey\, WA\, 98503\, United States
CATEGORIES:Music
ATTACH;FMTTYPE=image/png:https://olyarts.org/wp-content/uploads/2026/04/Throwback-POSTER.png
ORGANIZER;CN="Terry Shaw":MAILTO:strauss77@msn.com
END:VEVENT
BEGIN:VEVENT
DTSTART;TZID=America/Los_Angeles:20260424T190000
DTEND;TZID=America/Los_Angeles:20260424T210000
DTSTAMP:20260422T034005
CREATED:20260414T162740Z
LAST-MODIFIED:20260414T162743Z
UID:10005198-1777057200-1777064400@olyarts.org
SUMMARY:Timberline HS 21st Annual Throwback Concert
DESCRIPTION:This concert features jazz standards from the 1930s\, 40s and 50s from Ella Fitzgerald to Frank Sinatra. $10/adults and $5/students. Monday and Tuesday\, April 20-21 @7pm at the Timberline Theatre- 6120 Mullen Rd\, SE\, Lacey.
URL:https://olyarts.org/event/timberline-hs-21st-annual-throwback-concert/2026-04-24/
LOCATION:Timberline High School Theatre\, 6120 Mullen Rd SE\, Lacey\, WA\, 98503\, United States
CATEGORIES:Music
ATTACH;FMTTYPE=image/png:https://olyarts.org/wp-content/uploads/2026/04/Throwback-POSTER.png
ORGANIZER;CN="Terry Shaw":MAILTO:strauss77@msn.com
END:VEVENT
BEGIN:VEVENT
DTSTART;TZID=America/Los_Angeles:20260425T190000
DTEND;TZID=America/Los_Angeles:20260425T210000
DTSTAMP:20260422T034005
CREATED:20260414T162740Z
LAST-MODIFIED:20260414T162743Z
UID:10005199-1777143600-1777150800@olyarts.org
SUMMARY:Timberline HS 21st Annual Throwback Concert
DESCRIPTION:This concert features jazz standards from the 1930s\, 40s and 50s from Ella Fitzgerald to Frank Sinatra. $10/adults and $5/students. Monday and Tuesday\, April 20-21 @7pm at the Timberline Theatre- 6120 Mullen Rd\, SE\, Lacey.
URL:https://olyarts.org/event/timberline-hs-21st-annual-throwback-concert/2026-04-25/
LOCATION:Timberline High School Theatre\, 6120 Mullen Rd SE\, Lacey\, WA\, 98503\, United States
CATEGORIES:Music
ATTACH;FMTTYPE=image/png:https://olyarts.org/wp-content/uploads/2026/04/Throwback-POSTER.png
ORGANIZER;CN="Terry Shaw":MAILTO:strauss77@msn.com
END:VEVENT
BEGIN:VEVENT
DTSTART;TZID=America/Los_Angeles:20260426T190000
DTEND;TZID=America/Los_Angeles:20260426T210000
DTSTAMP:20260422T034005
CREATED:20260414T162740Z
LAST-MODIFIED:20260414T162743Z
UID:10005200-1777230000-1777237200@olyarts.org
SUMMARY:Timberline HS 21st Annual Throwback Concert
DESCRIPTION:This concert features jazz standards from the 1930s\, 40s and 50s from Ella Fitzgerald to Frank Sinatra. $10/adults and $5/students. Monday and Tuesday\, April 20-21 @7pm at the Timberline Theatre- 6120 Mullen Rd\, SE\, Lacey.
URL:https://olyarts.org/event/timberline-hs-21st-annual-throwback-concert/2026-04-26/
LOCATION:Timberline High School Theatre\, 6120 Mullen Rd SE\, Lacey\, WA\, 98503\, United States
CATEGORIES:Music
ATTACH;FMTTYPE=image/png:https://olyarts.org/wp-content/uploads/2026/04/Throwback-POSTER.png
ORGANIZER;CN="Terry Shaw":MAILTO:strauss77@msn.com
END:VEVENT
BEGIN:VEVENT
DTSTART;TZID=America/Los_Angeles:20260427T190000
DTEND;TZID=America/Los_Angeles:20260427T210000
DTSTAMP:20260422T034005
CREATED:20260414T162740Z
LAST-MODIFIED:20260414T162743Z
UID:10005201-1777316400-1777323600@olyarts.org
SUMMARY:Timberline HS 21st Annual Throwback Concert
DESCRIPTION:This concert features jazz standards from the 1930s\, 40s and 50s from Ella Fitzgerald to Frank Sinatra. $10/adults and $5/students. Monday and Tuesday\, April 20-21 @7pm at the Timberline Theatre- 6120 Mullen Rd\, SE\, Lacey.
URL:https://olyarts.org/event/timberline-hs-21st-annual-throwback-concert/2026-04-27/
LOCATION:Timberline High School Theatre\, 6120 Mullen Rd SE\, Lacey\, WA\, 98503\, United States
CATEGORIES:Music
ATTACH;FMTTYPE=image/png:https://olyarts.org/wp-content/uploads/2026/04/Throwback-POSTER.png
ORGANIZER;CN="Terry Shaw":MAILTO:strauss77@msn.com
END:VEVENT
BEGIN:VEVENT
DTSTART;TZID=America/Los_Angeles:20260428T190000
DTEND;TZID=America/Los_Angeles:20260428T210000
DTSTAMP:20260422T034005
CREATED:20260414T162740Z
LAST-MODIFIED:20260414T162743Z
UID:10005202-1777402800-1777410000@olyarts.org
SUMMARY:Timberline HS 21st Annual Throwback Concert
DESCRIPTION:This concert features jazz standards from the 1930s\, 40s and 50s from Ella Fitzgerald to Frank Sinatra. $10/adults and $5/students. Monday and Tuesday\, April 20-21 @7pm at the Timberline Theatre- 6120 Mullen Rd\, SE\, Lacey.
URL:https://olyarts.org/event/timberline-hs-21st-annual-throwback-concert/2026-04-28/
LOCATION:Timberline High School Theatre\, 6120 Mullen Rd SE\, Lacey\, WA\, 98503\, United States
CATEGORIES:Music
ATTACH;FMTTYPE=image/png:https://olyarts.org/wp-content/uploads/2026/04/Throwback-POSTER.png
ORGANIZER;CN="Terry Shaw":MAILTO:strauss77@msn.com
END:VEVENT
BEGIN:VEVENT
DTSTART;TZID=America/Los_Angeles:20260429T190000
DTEND;TZID=America/Los_Angeles:20260429T210000
DTSTAMP:20260422T034005
CREATED:20260414T162740Z
LAST-MODIFIED:20260414T162743Z
UID:10005203-1777489200-1777496400@olyarts.org
SUMMARY:Timberline HS 21st Annual Throwback Concert
DESCRIPTION:This concert features jazz standards from the 1930s\, 40s and 50s from Ella Fitzgerald to Frank Sinatra. $10/adults and $5/students. Monday and Tuesday\, April 20-21 @7pm at the Timberline Theatre- 6120 Mullen Rd\, SE\, Lacey.
URL:https://olyarts.org/event/timberline-hs-21st-annual-throwback-concert/2026-04-29/
LOCATION:Timberline High School Theatre\, 6120 Mullen Rd SE\, Lacey\, WA\, 98503\, United States
CATEGORIES:Music
ATTACH;FMTTYPE=image/png:https://olyarts.org/wp-content/uploads/2026/04/Throwback-POSTER.png
ORGANIZER;CN="Terry Shaw":MAILTO:strauss77@msn.com
END:VEVENT
BEGIN:VEVENT
DTSTART;TZID=America/Los_Angeles:20260430T190000
DTEND;TZID=America/Los_Angeles:20260430T210000
DTSTAMP:20260422T034005
CREATED:20260414T162740Z
LAST-MODIFIED:20260414T162743Z
UID:10005204-1777575600-1777582800@olyarts.org
SUMMARY:Timberline HS 21st Annual Throwback Concert
DESCRIPTION:This concert features jazz standards from the 1930s\, 40s and 50s from Ella Fitzgerald to Frank Sinatra. $10/adults and $5/students. Monday and Tuesday\, April 20-21 @7pm at the Timberline Theatre- 6120 Mullen Rd\, SE\, Lacey.
URL:https://olyarts.org/event/timberline-hs-21st-annual-throwback-concert/2026-04-30/
LOCATION:Timberline High School Theatre\, 6120 Mullen Rd SE\, Lacey\, WA\, 98503\, United States
CATEGORIES:Music
ATTACH;FMTTYPE=image/png:https://olyarts.org/wp-content/uploads/2026/04/Throwback-POSTER.png
ORGANIZER;CN="Terry Shaw":MAILTO:strauss77@msn.com
END:VEVENT
BEGIN:VEVENT
DTSTART;TZID=America/Los_Angeles:20260501T190000
DTEND;TZID=America/Los_Angeles:20260501T210000
DTSTAMP:20260422T034005
CREATED:20260414T162740Z
LAST-MODIFIED:20260414T162743Z
UID:10005205-1777662000-1777669200@olyarts.org
SUMMARY:Timberline HS 21st Annual Throwback Concert
DESCRIPTION:This concert features jazz standards from the 1930s\, 40s and 50s from Ella Fitzgerald to Frank Sinatra. $10/adults and $5/students. Monday and Tuesday\, April 20-21 @7pm at the Timberline Theatre- 6120 Mullen Rd\, SE\, Lacey.
URL:https://olyarts.org/event/timberline-hs-21st-annual-throwback-concert/2026-05-01/
LOCATION:Timberline High School Theatre\, 6120 Mullen Rd SE\, Lacey\, WA\, 98503\, United States
CATEGORIES:Music
ATTACH;FMTTYPE=image/png:https://olyarts.org/wp-content/uploads/2026/04/Throwback-POSTER.png
ORGANIZER;CN="Terry Shaw":MAILTO:strauss77@msn.com
END:VEVENT
BEGIN:VEVENT
DTSTART;TZID=America/Los_Angeles:20260502T190000
DTEND;TZID=America/Los_Angeles:20260502T210000
DTSTAMP:20260422T034005
CREATED:20260414T162740Z
LAST-MODIFIED:20260414T162743Z
UID:10005206-1777748400-1777755600@olyarts.org
SUMMARY:Timberline HS 21st Annual Throwback Concert
DESCRIPTION:This concert features jazz standards from the 1930s\, 40s and 50s from Ella Fitzgerald to Frank Sinatra. $10/adults and $5/students. Monday and Tuesday\, April 20-21 @7pm at the Timberline Theatre- 6120 Mullen Rd\, SE\, Lacey.
URL:https://olyarts.org/event/timberline-hs-21st-annual-throwback-concert/2026-05-02/
LOCATION:Timberline High School Theatre\, 6120 Mullen Rd SE\, Lacey\, WA\, 98503\, United States
CATEGORIES:Music
ATTACH;FMTTYPE=image/png:https://olyarts.org/wp-content/uploads/2026/04/Throwback-POSTER.png
ORGANIZER;CN="Terry Shaw":MAILTO:strauss77@msn.com
END:VEVENT
BEGIN:VEVENT
DTSTART;TZID=America/Los_Angeles:20260503T190000
DTEND;TZID=America/Los_Angeles:20260503T210000
DTSTAMP:20260422T034005
CREATED:20260414T162740Z
LAST-MODIFIED:20260414T162743Z
UID:10005207-1777834800-1777842000@olyarts.org
SUMMARY:Timberline HS 21st Annual Throwback Concert
DESCRIPTION:This concert features jazz standards from the 1930s\, 40s and 50s from Ella Fitzgerald to Frank Sinatra. $10/adults and $5/students. Monday and Tuesday\, April 20-21 @7pm at the Timberline Theatre- 6120 Mullen Rd\, SE\, Lacey.
URL:https://olyarts.org/event/timberline-hs-21st-annual-throwback-concert/2026-05-03/
LOCATION:Timberline High School Theatre\, 6120 Mullen Rd SE\, Lacey\, WA\, 98503\, United States
CATEGORIES:Music
ATTACH;FMTTYPE=image/png:https://olyarts.org/wp-content/uploads/2026/04/Throwback-POSTER.png
ORGANIZER;CN="Terry Shaw":MAILTO:strauss77@msn.com
END:VEVENT
BEGIN:VEVENT
DTSTART;TZID=America/Los_Angeles:20260504T190000
DTEND;TZID=America/Los_Angeles:20260504T210000
DTSTAMP:20260422T034005
CREATED:20260414T162740Z
LAST-MODIFIED:20260414T162743Z
UID:10005208-1777921200-1777928400@olyarts.org
SUMMARY:Timberline HS 21st Annual Throwback Concert
DESCRIPTION:This concert features jazz standards from the 1930s\, 40s and 50s from Ella Fitzgerald to Frank Sinatra. $10/adults and $5/students. Monday and Tuesday\, April 20-21 @7pm at the Timberline Theatre- 6120 Mullen Rd\, SE\, Lacey.
URL:https://olyarts.org/event/timberline-hs-21st-annual-throwback-concert/2026-05-04/
LOCATION:Timberline High School Theatre\, 6120 Mullen Rd SE\, Lacey\, WA\, 98503\, United States
CATEGORIES:Music
ATTACH;FMTTYPE=image/png:https://olyarts.org/wp-content/uploads/2026/04/Throwback-POSTER.png
ORGANIZER;CN="Terry Shaw":MAILTO:strauss77@msn.com
END:VEVENT
BEGIN:VEVENT
DTSTART;TZID=America/Los_Angeles:20260505T190000
DTEND;TZID=America/Los_Angeles:20260505T210000
DTSTAMP:20260422T034005
CREATED:20260414T162740Z
LAST-MODIFIED:20260414T162743Z
UID:10005209-1778007600-1778014800@olyarts.org
SUMMARY:Timberline HS 21st Annual Throwback Concert
DESCRIPTION:This concert features jazz standards from the 1930s\, 40s and 50s from Ella Fitzgerald to Frank Sinatra. $10/adults and $5/students. Monday and Tuesday\, April 20-21 @7pm at the Timberline Theatre- 6120 Mullen Rd\, SE\, Lacey.
URL:https://olyarts.org/event/timberline-hs-21st-annual-throwback-concert/2026-05-05/
LOCATION:Timberline High School Theatre\, 6120 Mullen Rd SE\, Lacey\, WA\, 98503\, United States
CATEGORIES:Music
ATTACH;FMTTYPE=image/png:https://olyarts.org/wp-content/uploads/2026/04/Throwback-POSTER.png
ORGANIZER;CN="Terry Shaw":MAILTO:strauss77@msn.com
END:VEVENT
BEGIN:VEVENT
DTSTART;TZID=America/Los_Angeles:20260506T190000
DTEND;TZID=America/Los_Angeles:20260506T210000
DTSTAMP:20260422T034005
CREATED:20260414T162740Z
LAST-MODIFIED:20260414T162743Z
UID:10005210-1778094000-1778101200@olyarts.org
SUMMARY:Timberline HS 21st Annual Throwback Concert
DESCRIPTION:This concert features jazz standards from the 1930s\, 40s and 50s from Ella Fitzgerald to Frank Sinatra. $10/adults and $5/students. Monday and Tuesday\, April 20-21 @7pm at the Timberline Theatre- 6120 Mullen Rd\, SE\, Lacey.
URL:https://olyarts.org/event/timberline-hs-21st-annual-throwback-concert/2026-05-06/
LOCATION:Timberline High School Theatre\, 6120 Mullen Rd SE\, Lacey\, WA\, 98503\, United States
CATEGORIES:Music
ATTACH;FMTTYPE=image/png:https://olyarts.org/wp-content/uploads/2026/04/Throwback-POSTER.png
ORGANIZER;CN="Terry Shaw":MAILTO:strauss77@msn.com
END:VEVENT
BEGIN:VEVENT
DTSTART;TZID=America/Los_Angeles:20260507T190000
DTEND;TZID=America/Los_Angeles:20260507T210000
DTSTAMP:20260422T034005
CREATED:20260414T162740Z
LAST-MODIFIED:20260414T162743Z
UID:10005211-1778180400-1778187600@olyarts.org
SUMMARY:Timberline HS 21st Annual Throwback Concert
DESCRIPTION:This concert features jazz standards from the 1930s\, 40s and 50s from Ella Fitzgerald to Frank Sinatra. $10/adults and $5/students. Monday and Tuesday\, April 20-21 @7pm at the Timberline Theatre- 6120 Mullen Rd\, SE\, Lacey.
URL:https://olyarts.org/event/timberline-hs-21st-annual-throwback-concert/2026-05-07/
LOCATION:Timberline High School Theatre\, 6120 Mullen Rd SE\, Lacey\, WA\, 98503\, United States
CATEGORIES:Music
ATTACH;FMTTYPE=image/png:https://olyarts.org/wp-content/uploads/2026/04/Throwback-POSTER.png
ORGANIZER;CN="Terry Shaw":MAILTO:strauss77@msn.com
END:VEVENT
BEGIN:VEVENT
DTSTART;TZID=America/Los_Angeles:20260508T190000
DTEND;TZID=America/Los_Angeles:20260508T210000
DTSTAMP:20260422T034005
CREATED:20260414T162740Z
LAST-MODIFIED:20260414T162743Z
UID:10005212-1778266800-1778274000@olyarts.org
SUMMARY:Timberline HS 21st Annual Throwback Concert
DESCRIPTION:This concert features jazz standards from the 1930s\, 40s and 50s from Ella Fitzgerald to Frank Sinatra. $10/adults and $5/students. Monday and Tuesday\, April 20-21 @7pm at the Timberline Theatre- 6120 Mullen Rd\, SE\, Lacey.
URL:https://olyarts.org/event/timberline-hs-21st-annual-throwback-concert/2026-05-08/
LOCATION:Timberline High School Theatre\, 6120 Mullen Rd SE\, Lacey\, WA\, 98503\, United States
CATEGORIES:Music
ATTACH;FMTTYPE=image/png:https://olyarts.org/wp-content/uploads/2026/04/Throwback-POSTER.png
ORGANIZER;CN="Terry Shaw":MAILTO:strauss77@msn.com
END:VEVENT
BEGIN:VEVENT
DTSTART;TZID=America/Los_Angeles:20260508T200000
DTEND;TZID=America/Los_Angeles:20260508T220000
DTSTAMP:20260422T034005
CREATED:20260406T225754Z
LAST-MODIFIED:20260406T230559Z
UID:10005186-1778270400-1778277600@olyarts.org
SUMMARY:Black Box Jazz: Marina Albero
DESCRIPTION:Award-winning pianist and composer Marina Albero weaves a tapestry of sound that defies categorization\, drawing from her rich multicultural background in Barcelona\, Cuba\, and Seattle. A musical polyglot fluent in jazz\, flamenco\, classical\, and Latin traditions\, Albero has captivated audiences worldwide with her innovative improvisational style and emotional depth. Her latest album “A Nomad of Sound” (2024) showcases her unique artistic voice alongside acclaimed musicians from New Orleans\, building on her impressive collection of Golden Ear Awards and sold-out performances. Whether performing\, teaching at Cornish College of the Arts\, or curating innovative concert series\, Marina creates musical experiences that are both intimately personal and universally moving.
URL:https://olyarts.org/event/black-box-jazz-marina-albero-2/
LOCATION:Washington Center Black Box\, 512 Washington Street SE\, Olympia\, 98501\, United States
CATEGORIES:Film,Music
ATTACH;FMTTYPE=image/jpeg:https://olyarts.org/wp-content/uploads/2026/04/Marina-Albero-by-Lisa-Hagen-Glynn-740x405-1.jpg
ORGANIZER;CN="Washington Center for the Performing Arts":MAILTO:boxoffice@washingtoncenter.org
END:VEVENT
BEGIN:VEVENT
DTSTART;TZID=America/Los_Angeles:20260509T190000
DTEND;TZID=America/Los_Angeles:20260509T210000
DTSTAMP:20260422T034005
CREATED:20260414T162740Z
LAST-MODIFIED:20260414T162743Z
UID:10005213-1778353200-1778360400@olyarts.org
SUMMARY:Timberline HS 21st Annual Throwback Concert
DESCRIPTION:This concert features jazz standards from the 1930s\, 40s and 50s from Ella Fitzgerald to Frank Sinatra. $10/adults and $5/students. Monday and Tuesday\, April 20-21 @7pm at the Timberline Theatre- 6120 Mullen Rd\, SE\, Lacey.
URL:https://olyarts.org/event/timberline-hs-21st-annual-throwback-concert/2026-05-09/
LOCATION:Timberline High School Theatre\, 6120 Mullen Rd SE\, Lacey\, WA\, 98503\, United States
CATEGORIES:Music
ATTACH;FMTTYPE=image/png:https://olyarts.org/wp-content/uploads/2026/04/Throwback-POSTER.png
ORGANIZER;CN="Terry Shaw":MAILTO:strauss77@msn.com
END:VEVENT
BEGIN:VEVENT
DTSTART;TZID=America/Los_Angeles:20260510T190000
DTEND;TZID=America/Los_Angeles:20260510T210000
DTSTAMP:20260422T034005
CREATED:20260414T162740Z
LAST-MODIFIED:20260414T162743Z
UID:10005214-1778439600-1778446800@olyarts.org
SUMMARY:Timberline HS 21st Annual Throwback Concert
DESCRIPTION:This concert features jazz standards from the 1930s\, 40s and 50s from Ella Fitzgerald to Frank Sinatra. $10/adults and $5/students. Monday and Tuesday\, April 20-21 @7pm at the Timberline Theatre- 6120 Mullen Rd\, SE\, Lacey.
URL:https://olyarts.org/event/timberline-hs-21st-annual-throwback-concert/2026-05-10/
LOCATION:Timberline High School Theatre\, 6120 Mullen Rd SE\, Lacey\, WA\, 98503\, United States
CATEGORIES:Music
ATTACH;FMTTYPE=image/png:https://olyarts.org/wp-content/uploads/2026/04/Throwback-POSTER.png
ORGANIZER;CN="Terry Shaw":MAILTO:strauss77@msn.com
END:VEVENT
BEGIN:VEVENT
DTSTART;TZID=America/Los_Angeles:20260511T190000
DTEND;TZID=America/Los_Angeles:20260511T210000
DTSTAMP:20260422T034005
CREATED:20260414T162740Z
LAST-MODIFIED:20260414T162743Z
UID:10005215-1778526000-1778533200@olyarts.org
SUMMARY:Timberline HS 21st Annual Throwback Concert
DESCRIPTION:This concert features jazz standards from the 1930s\, 40s and 50s from Ella Fitzgerald to Frank Sinatra. $10/adults and $5/students. Monday and Tuesday\, April 20-21 @7pm at the Timberline Theatre- 6120 Mullen Rd\, SE\, Lacey.
URL:https://olyarts.org/event/timberline-hs-21st-annual-throwback-concert/2026-05-11/
LOCATION:Timberline High School Theatre\, 6120 Mullen Rd SE\, Lacey\, WA\, 98503\, United States
CATEGORIES:Music
ATTACH;FMTTYPE=image/png:https://olyarts.org/wp-content/uploads/2026/04/Throwback-POSTER.png
ORGANIZER;CN="Terry Shaw":MAILTO:strauss77@msn.com
END:VEVENT
BEGIN:VEVENT
DTSTART;TZID=America/Los_Angeles:20260512T190000
DTEND;TZID=America/Los_Angeles:20260512T210000
DTSTAMP:20260422T034006
CREATED:20260414T162740Z
LAST-MODIFIED:20260414T162743Z
UID:10005216-1778612400-1778619600@olyarts.org
SUMMARY:Timberline HS 21st Annual Throwback Concert
DESCRIPTION:This concert features jazz standards from the 1930s\, 40s and 50s from Ella Fitzgerald to Frank Sinatra. $10/adults and $5/students. Monday and Tuesday\, April 20-21 @7pm at the Timberline Theatre- 6120 Mullen Rd\, SE\, Lacey.
URL:https://olyarts.org/event/timberline-hs-21st-annual-throwback-concert/2026-05-12/
LOCATION:Timberline High School Theatre\, 6120 Mullen Rd SE\, Lacey\, WA\, 98503\, United States
CATEGORIES:Music
ATTACH;FMTTYPE=image/png:https://olyarts.org/wp-content/uploads/2026/04/Throwback-POSTER.png
ORGANIZER;CN="Terry Shaw":MAILTO:strauss77@msn.com
END:VEVENT
BEGIN:VEVENT
DTSTART;TZID=America/Los_Angeles:20260513T190000
DTEND;TZID=America/Los_Angeles:20260513T210000
DTSTAMP:20260422T034006
CREATED:20260414T162740Z
LAST-MODIFIED:20260414T162743Z
UID:10005217-1778698800-1778706000@olyarts.org
SUMMARY:Timberline HS 21st Annual Throwback Concert
DESCRIPTION:This concert features jazz standards from the 1930s\, 40s and 50s from Ella Fitzgerald to Frank Sinatra. $10/adults and $5/students. Monday and Tuesday\, April 20-21 @7pm at the Timberline Theatre- 6120 Mullen Rd\, SE\, Lacey.
URL:https://olyarts.org/event/timberline-hs-21st-annual-throwback-concert/2026-05-13/
LOCATION:Timberline High School Theatre\, 6120 Mullen Rd SE\, Lacey\, WA\, 98503\, United States
CATEGORIES:Music
ATTACH;FMTTYPE=image/png:https://olyarts.org/wp-content/uploads/2026/04/Throwback-POSTER.png
ORGANIZER;CN="Terry Shaw":MAILTO:strauss77@msn.com
END:VEVENT
BEGIN:VEVENT
DTSTART;TZID=America/Los_Angeles:20260514T190000
DTEND;TZID=America/Los_Angeles:20260514T210000
DTSTAMP:20260422T034006
CREATED:20260414T162740Z
LAST-MODIFIED:20260414T162743Z
UID:10005218-1778785200-1778792400@olyarts.org
SUMMARY:Timberline HS 21st Annual Throwback Concert
DESCRIPTION:This concert features jazz standards from the 1930s\, 40s and 50s from Ella Fitzgerald to Frank Sinatra. $10/adults and $5/students. Monday and Tuesday\, April 20-21 @7pm at the Timberline Theatre- 6120 Mullen Rd\, SE\, Lacey.
URL:https://olyarts.org/event/timberline-hs-21st-annual-throwback-concert/2026-05-14/
LOCATION:Timberline High School Theatre\, 6120 Mullen Rd SE\, Lacey\, WA\, 98503\, United States
CATEGORIES:Music
ATTACH;FMTTYPE=image/png:https://olyarts.org/wp-content/uploads/2026/04/Throwback-POSTER.png
ORGANIZER;CN="Terry Shaw":MAILTO:strauss77@msn.com
END:VEVENT
BEGIN:VEVENT
DTSTART;TZID=America/Los_Angeles:20260515T190000
DTEND;TZID=America/Los_Angeles:20260515T210000
DTSTAMP:20260422T034006
CREATED:20260414T162740Z
LAST-MODIFIED:20260414T162743Z
UID:10005219-1778871600-1778878800@olyarts.org
SUMMARY:Timberline HS 21st Annual Throwback Concert
DESCRIPTION:This concert features jazz standards from the 1930s\, 40s and 50s from Ella Fitzgerald to Frank Sinatra. $10/adults and $5/students. Monday and Tuesday\, April 20-21 @7pm at the Timberline Theatre- 6120 Mullen Rd\, SE\, Lacey.
URL:https://olyarts.org/event/timberline-hs-21st-annual-throwback-concert/2026-05-15/
LOCATION:Timberline High School Theatre\, 6120 Mullen Rd SE\, Lacey\, WA\, 98503\, United States
CATEGORIES:Music
ATTACH;FMTTYPE=image/png:https://olyarts.org/wp-content/uploads/2026/04/Throwback-POSTER.png
ORGANIZER;CN="Terry Shaw":MAILTO:strauss77@msn.com
END:VEVENT
BEGIN:VEVENT
DTSTART;TZID=America/Los_Angeles:20260515T193000
DTEND;TZID=America/Los_Angeles:20260515T213000
DTSTAMP:20260422T034006
CREATED:20251216T161630Z
LAST-MODIFIED:20260311T171923Z
UID:10005071-1778873400-1778880600@olyarts.org
SUMMARY:The Wailin’ Jennys
DESCRIPTION:The Wailin’ Jennys are Nicky Mehta\, Ruth Moody and Heather Masse — three distinct voices that together make an achingly perfect vocal sound. With their varying backgrounds\, each of the Jennys is unique in their individual expression and together they have grown into one of today’s most beloved acts on the international folk-roots scene. The Jennys forge a unified folk-pop sound — all delivered with the irresistible vocal power of three. Their live performances never fail to impress and entertain with show-stopping harmonies\, impressive instrumental prowess\, breathtaking songs and\, of course\, witty stage banter.
URL:https://olyarts.org/event/the-wailin-jennys/
LOCATION:The Washington Center for the Performing Arts\, 512 Washington St SE\, Olympia
CATEGORIES:Comedy,Dance,Film,Music
ATTACH;FMTTYPE=image/jpeg:https://olyarts.org/wp-content/uploads/2025/12/The-Wailin-Jennys.jpg
ORGANIZER;CN="Washington Center for the Performing Arts":MAILTO:boxoffice@washingtoncenter.org
END:VEVENT
BEGIN:VEVENT
DTSTART;TZID=America/Los_Angeles:20260516T190000
DTEND;TZID=America/Los_Angeles:20260516T210000
DTSTAMP:20260422T034006
CREATED:20260414T162740Z
LAST-MODIFIED:20260414T162743Z
UID:10005220-1778958000-1778965200@olyarts.org
SUMMARY:Timberline HS 21st Annual Throwback Concert
DESCRIPTION:This concert features jazz standards from the 1930s\, 40s and 50s from Ella Fitzgerald to Frank Sinatra. $10/adults and $5/students. Monday and Tuesday\, April 20-21 @7pm at the Timberline Theatre- 6120 Mullen Rd\, SE\, Lacey.
URL:https://olyarts.org/event/timberline-hs-21st-annual-throwback-concert/2026-05-16/
LOCATION:Timberline High School Theatre\, 6120 Mullen Rd SE\, Lacey\, WA\, 98503\, United States
CATEGORIES:Music
ATTACH;FMTTYPE=image/png:https://olyarts.org/wp-content/uploads/2026/04/Throwback-POSTER.png
ORGANIZER;CN="Terry Shaw":MAILTO:strauss77@msn.com
END:VEVENT
BEGIN:VEVENT
DTSTART;TZID=America/Los_Angeles:20260517T190000
DTEND;TZID=America/Los_Angeles:20260517T210000
DTSTAMP:20260422T034006
CREATED:20260414T162740Z
LAST-MODIFIED:20260414T162743Z
UID:10005221-1779044400-1779051600@olyarts.org
SUMMARY:Timberline HS 21st Annual Throwback Concert
DESCRIPTION:This concert features jazz standards from the 1930s\, 40s and 50s from Ella Fitzgerald to Frank Sinatra. $10/adults and $5/students. Monday and Tuesday\, April 20-21 @7pm at the Timberline Theatre- 6120 Mullen Rd\, SE\, Lacey.
URL:https://olyarts.org/event/timberline-hs-21st-annual-throwback-concert/2026-05-17/
LOCATION:Timberline High School Theatre\, 6120 Mullen Rd SE\, Lacey\, WA\, 98503\, United States
CATEGORIES:Music
ATTACH;FMTTYPE=image/png:https://olyarts.org/wp-content/uploads/2026/04/Throwback-POSTER.png
ORGANIZER;CN="Terry Shaw":MAILTO:strauss77@msn.com
END:VEVENT
BEGIN:VEVENT
DTSTART;TZID=America/Los_Angeles:20260518T190000
DTEND;TZID=America/Los_Angeles:20260518T210000
DTSTAMP:20260422T034006
CREATED:20260414T162740Z
LAST-MODIFIED:20260414T162743Z
UID:10005222-1779130800-1779138000@olyarts.org
SUMMARY:Timberline HS 21st Annual Throwback Concert
DESCRIPTION:This concert features jazz standards from the 1930s\, 40s and 50s from Ella Fitzgerald to Frank Sinatra. $10/adults and $5/students. Monday and Tuesday\, April 20-21 @7pm at the Timberline Theatre- 6120 Mullen Rd\, SE\, Lacey.
URL:https://olyarts.org/event/timberline-hs-21st-annual-throwback-concert/2026-05-18/
LOCATION:Timberline High School Theatre\, 6120 Mullen Rd SE\, Lacey\, WA\, 98503\, United States
CATEGORIES:Music
ATTACH;FMTTYPE=image/png:https://olyarts.org/wp-content/uploads/2026/04/Throwback-POSTER.png
ORGANIZER;CN="Terry Shaw":MAILTO:strauss77@msn.com
END:VEVENT
BEGIN:VEVENT
DTSTART;TZID=America/Los_Angeles:20260519T190000
DTEND;TZID=America/Los_Angeles:20260519T210000
DTSTAMP:20260422T034006
CREATED:20260414T162740Z
LAST-MODIFIED:20260414T162743Z
UID:10005223-1779217200-1779224400@olyarts.org
SUMMARY:Timberline HS 21st Annual Throwback Concert
DESCRIPTION:This concert features jazz standards from the 1930s\, 40s and 50s from Ella Fitzgerald to Frank Sinatra. $10/adults and $5/students. Monday and Tuesday\, April 20-21 @7pm at the Timberline Theatre- 6120 Mullen Rd\, SE\, Lacey.
URL:https://olyarts.org/event/timberline-hs-21st-annual-throwback-concert/2026-05-19/
LOCATION:Timberline High School Theatre\, 6120 Mullen Rd SE\, Lacey\, WA\, 98503\, United States
CATEGORIES:Music
ATTACH;FMTTYPE=image/png:https://olyarts.org/wp-content/uploads/2026/04/Throwback-POSTER.png
ORGANIZER;CN="Terry Shaw":MAILTO:strauss77@msn.com
END:VEVENT
END:VCALENDAR