BEGIN:VCALENDAR
VERSION:2.0
PRODID:-//OLY ARTS - ECPv6.15.20//NONSGML v1.0//EN
CALSCALE:GREGORIAN
METHOD:PUBLISH
X-WR-CALNAME:OLY ARTS
X-ORIGINAL-URL:https://olyarts.org
X-WR-CALDESC:Events for OLY ARTS
REFRESH-INTERVAL;VALUE=DURATION:PT1H
X-Robots-Tag:noindex
X-PUBLISHED-TTL:PT1H
BEGIN:VTIMEZONE
TZID:America/Los_Angeles
BEGIN:DAYLIGHT
TZOFFSETFROM:-0800
TZOFFSETTO:-0700
TZNAME:PDT
DTSTART:20250309T100000
END:DAYLIGHT
BEGIN:STANDARD
TZOFFSETFROM:-0700
TZOFFSETTO:-0800
TZNAME:PST
DTSTART:20251102T090000
END:STANDARD
BEGIN:DAYLIGHT
TZOFFSETFROM:-0800
TZOFFSETTO:-0700
TZNAME:PDT
DTSTART:20260308T100000
END:DAYLIGHT
BEGIN:STANDARD
TZOFFSETFROM:-0700
TZOFFSETTO:-0800
TZNAME:PST
DTSTART:20261101T090000
END:STANDARD
BEGIN:DAYLIGHT
TZOFFSETFROM:-0800
TZOFFSETTO:-0700
TZNAME:PDT
DTSTART:20270314T100000
END:DAYLIGHT
BEGIN:STANDARD
TZOFFSETFROM:-0700
TZOFFSETTO:-0800
TZNAME:PST
DTSTART:20271107T090000
END:STANDARD
END:VTIMEZONE
BEGIN:VEVENT
DTSTART;TZID=America/Los_Angeles:20260513T180000
DTEND;TZID=America/Los_Angeles:20260513T200000
DTSTAMP:20260422T034139
CREATED:20260404T180817Z
LAST-MODIFIED:20260404T180819Z
UID:10005184-1778695200-1778702400@olyarts.org
SUMMARY:The Year of the Horse\, in the Chinese Calendar
DESCRIPTION:Eva Abrams\, master storyteller from Seattle\, brings a celebration of the Year of the Horse\, in “The World of Magic.”\nShe shares folktales and personal stories\, in the oral tradition\, about horses. Olympia storyteller\, Tobey Ishii Anderson\,\ntells the Asian story of the 12 animals that make the lunar horoscope\, the Great Race. This is a storytelling event sponsored\nby the South Sound Story Guild and the public is invited to attend. The second hour is Story Swap\, audience members\ncan sign up to tell up to an 8 minute story.
URL:https://olyarts.org/event/the-year-of-the-horse-in-the-chinese-calendar/
LOCATION:Harbor House\, 217 Thurston Ave NW\, Olympia\, WA\, 98501\, United States
CATEGORIES:Theater
ATTACH;FMTTYPE=image/jpeg:https://olyarts.org/wp-content/uploads/2026/04/Eva-Abrams-photo.jpeg
ORGANIZER;CN="SouthSoundStoryGuild":MAILTO:mlott1256@gmail.com
END:VEVENT
END:VCALENDAR